BEGIN:VCALENDAR
VERSION:2.0
PRODID:-//Инклюзион - ECPv4.9.13//NONSGML v1.0//EN
CALSCALE:GREGORIAN
METHOD:PUBLISH
X-WR-CALNAME:Инклюзион
X-ORIGINAL-URL:https://inclusioncenter.ru
X-WR-CALDESC:Events for Инклюзион
BEGIN:VTIMEZONE
TZID:Europe/Moscow
BEGIN:STANDARD
TZOFFSETFROM:+0300
TZOFFSETTO:+0300
TZNAME:MSK
DTSTART:20240101T000000
END:STANDARD
END:VTIMEZONE
BEGIN:VEVENT
DTSTART;VALUE=DATE:20240517
DTEND;VALUE=DATE:20240520
DTSTAMP:20260419T121806
CREATED:20240427T154759Z
LAST-MODIFIED:20240701T155219Z
UID:12153-1715904000-1716163199@inclusioncenter.ru
SUMMARY:Форум-фестиваль социального театра "Особый взгляд"
DESCRIPTION:Форум-фестиваль пройдёт в Москве 17-19 мая. Основная площадка и партнёр фестиваля — Электротеатр Станиславский. Кураторы программ: Алексей Крикливый\, Полина Кардымон и Дмитрий Крестьянкин. \nСПЕКТАКЛИ ТЕАТРАЛЬНОЙ ПРОГРАММЫ: \n«Смена Формата» (театральная площадка MOÑ\, Казань\, реж. Борис Павлович). Исследование процесса инклюзии через совместное творчество; \n«Свидетельствуя за свидетеля» (совместный проект Музея истории ГУЛАГа и «Инклюзиона»\, реж. Дарья Ковальская). Осознание истории репрессий через призму семейной и индивидуальной памяти; \n«Снегурочка» (Няганьский ТЮЗ\, реж. Филипп Гуревич). Социально-документальная несказка о том\, как дети с ментальными особенностями живут в современном мире; \n«КОКОН» (Театр Науки IZOTOP.LAB\, реж. Ярослав Францев). Сайнс-арт спектакль о раковых клетках в человеческом организме; \n«Это не я\, это моё тело» (Anybody Theater\, реж. Кристина Квитко\, Ася Каплун). Vogue-док о принятия и непринятия своего «внутреннего» и «физического» Я. \n«15 172» (театральная площадка MOÑ\, Казань) Моноспектакль хореографа и танцора Ильдара Алекбаева\, честный разговор от первого лица о жизни человека с ВИЧ. \nТакже в программе спектакль-визитка прошлогоднего Форума-фестиваля — спектакль «НЕсказки». \n*Каждый день перед вечерними спектаклями магистранты программы «Социальный театр» ГИТИСа проведут театральные уроки для зрителей. Обсуждения спектаклей проведут Алексей Крикливый и Елена Ковальская. \nПодробности\, описания\, программа\, билеты\, регистрации: https://specialviewfest.ru/ \n
URL:https://inclusioncenter.ru/event/forum-festival-socialnogo-teatra-osobyj-vzgljad-2/
LOCATION:Электротеатр Станиславский\, ул. Тверская\, д. 23\, стр.1\, Москва\, Российская Федерация
CATEGORIES:Афиша
ATTACH;FMTTYPE=image/jpeg:https://inclusioncenter.ru/wp-content/uploads/2024/07/Select-263.jpg
END:VEVENT
END:VCALENDAR