BEGIN:VCALENDAR
VERSION:2.0
PRODID:-//Инклюзион - ECPv4.9.13//NONSGML v1.0//EN
CALSCALE:GREGORIAN
METHOD:PUBLISH
X-WR-CALNAME:Инклюзион
X-ORIGINAL-URL:https://inclusioncenter.ru
X-WR-CALDESC:Events for Инклюзион
BEGIN:VTIMEZONE
TZID:Europe/Moscow
BEGIN:STANDARD
TZOFFSETFROM:+0300
TZOFFSETTO:+0300
TZNAME:MSK
DTSTART:20180101T000000
END:STANDARD
END:VTIMEZONE
BEGIN:VEVENT
DTSTART;TZID=Europe/Moscow:20181222T160000
DTEND;TZID=Europe/Moscow:20181222T160000
DTSTAMP:20260420T233823
CREATED:20181123T091833Z
LAST-MODIFIED:20181123T091833Z
UID:3981-1545494400-1545494400@inclusioncenter.ru
SUMMARY:Эскиз спектакля от «Инклюзион.Школа.Санкт-Петербург»
DESCRIPTION:22 декабря «Инклюзион.Школа.Петербург» представит эскиз спектакля\, собранный вокруг образов коней\, как символа и метафоры\, позволяющих говорить о тех ситуациях\, которые волнуют участников. В своей работе участники петербургской театральной школы «Инклюзион» отталкивались от текстов Толстого (фрагменты «Холстомера»)\, песен\, поэзии и собственной фантазии. Режиссер: Александр Савчук\, педагог по пластике — Ксения Петренко\, педагог по музыке — Дарья Барабенова\, педагог по вокалу — Елена Романова. \nПосещение по предварительной записи у администратора школы\, Владислава Крупенье\, по телефону +7-931-373-08-29 или куратора школы\, Юлии Поцелуевой\, по почте yuliapotselueva@gmail.com \n
URL:https://inclusioncenter.ru/event/jeskiz-spektaklja-ot-inkljuzion-shkola-sankt-peterburg/
LOCATION:Государственная библиотека для слепых и слабовидящих\, ул. Стрельнинская\, д. 11\, Санкт-Петербург\, Российская Федерация
CATEGORIES:Афиша
END:VEVENT
END:VCALENDAR