BEGIN:VCALENDAR
VERSION:2.0
PRODID:-//Инклюзион - ECPv4.9.13//NONSGML v1.0//EN
CALSCALE:GREGORIAN
METHOD:PUBLISH
X-WR-CALNAME:Инклюзион
X-ORIGINAL-URL:https://inclusioncenter.ru
X-WR-CALDESC:Events for Инклюзион
BEGIN:VTIMEZONE
TZID:Europe/Moscow
BEGIN:STANDARD
TZOFFSETFROM:+0300
TZOFFSETTO:+0300
TZNAME:MSK
DTSTART:20190101T000000
END:STANDARD
END:VTIMEZONE
BEGIN:VEVENT
DTSTART;TZID=Europe/Moscow:20190204T110000
DTEND;TZID=Europe/Moscow:20190204T130000
DTSTAMP:20260421T034452
CREATED:20190130T162403Z
LAST-MODIFIED:20190203T165905Z
UID:4640-1549278000-1549285200@inclusioncenter.ru
SUMMARY:Лекция по истории театра проект «Инициатива.Творчество.Свобода».
DESCRIPTION:Первая лекция экспресс-курса по истории театра. Ведущая: Анна Жук\, театровед\, основатель онлайн-издания об искусстве «Жираф». Член экспертного жюри российских и международных фестивалей.\nНа лекции участники познакомятся с основными вехами развития мирового и русского театра: от античности до наших дней. Вместе с ведущей попробуем разобраться\, чем Средневековый театр отличается от театра Возрождения\, и что Классицизм дал «в наследство» всем последующим поколениям. \nЗапись на лекцию: e.kolomina@so-edinenie.org \n
URL:https://inclusioncenter.ru/event/lekcija-po-istorii-teatra-proekt-iniciativa-tvorchestvo-svoboda/
LOCATION:Культурный центр ЗИЛ (детская библиотека)\, ул. Восточная\, д. 4\, корп. 1\, Москва\, Российская Федерация
CATEGORIES:Афиша
END:VEVENT
END:VCALENDAR