BEGIN:VCALENDAR
VERSION:2.0
PRODID:-//Инклюзион - ECPv4.9.13//NONSGML v1.0//EN
CALSCALE:GREGORIAN
METHOD:PUBLISH
X-WR-CALNAME:Инклюзион
X-ORIGINAL-URL:https://inclusioncenter.ru
X-WR-CALDESC:Events for Инклюзион
BEGIN:VTIMEZONE
TZID:Europe/Moscow
BEGIN:STANDARD
TZOFFSETFROM:+0300
TZOFFSETTO:+0300
TZNAME:MSK
DTSTART:20230101T000000
END:STANDARD
END:VTIMEZONE
BEGIN:VEVENT
DTSTART;TZID=Europe/Moscow:20231216T183000
DTEND;TZID=Europe/Moscow:20231216T193000
DTSTAMP:20260419T213805
CREATED:20231210T064514Z
LAST-MODIFIED:20231210T064514Z
UID:11819-1702751400-1702755000@inclusioncenter.ru
SUMMARY:Москва. Перформанс "Жизнь насекомых" в Музее русского импрессионизма
DESCRIPTION:«Жизнь насекомых» — первая работа московской молодёжной театральной «Инклюзион.Школы». Всем известная «Муха-Цокотуха» Корнея Чуковского\, поставленная в духе кабаре 1920-х годов\, обрастает новыми смыслами и приобретает неожиданные формы. \nПерформанс «Жизнь насекомых» создан на стыке разных жанров и культур. Семантическое пространство текста Чуковского расширено поэзией ОБЭРИУтов\, песенной городской культурой 1920-х годов\, музыкальными ассоциациями с жанром кабаре и оперетты\, неформальным рок-клубом и современной поп-культурой Все это обрамлено наивной хореографией в духе Боба Фосса. И конечно\, 5 пудов любви\, чай и хрупкий мир\, который рушится. \n  \n«Мы полагаем\, что всем известное произведение Чуковского — это один из первых в литературе XX века примеров создания инклюзивной среды\, горизонтального общества и самоорганизации»\, — говорит режиссёр перформанса Сергей Быстров.  \n  \n«Перформанс совпадает по своему настроению открытой в музее выставкой “Автор неизвестен. Коснуться главного”. Ее кураторы переворачивают представление зрителя о важности имен в искусстве\, предлагают посмотреть на картины с точки зрения мастерства и таланта их авторов\, не ориентируясь на их популярность и известность. Так же и с “Жизнью насекомых”: нас приглашают посмотреть на постановку\, в которой играют артисты пока еще не знаменитые\, но\, безусловно\, очень талантливые» — отмечает Елена Шарова\, куратор просветительских и инклюзивных программ Музея русского импрессионизма. \n  \nВход на показ бесплатный при наличии входного билета в Музей русского импрессионизма. В стоимость входит осмотр постоянной экспозиции музея и выставки «Автор неизвестен. Коснуться главного». \n
URL:https://inclusioncenter.ru/event/moskva-performans-zhizn-nasekomyh-v-muzee-russkogo-impressionizma/
LOCATION:Музей русского импрессионизма\, Ленинградский проспект д. 15\, стр. 11\, Москва\, Российская Федерация
CATEGORIES:Афиша
ATTACH;FMTTYPE=image/jpeg:https://inclusioncenter.ru/wp-content/uploads/2023/12/Жизнь-насекомых.jpg
END:VEVENT
END:VCALENDAR