BEGIN:VCALENDAR
VERSION:2.0
PRODID:-//Инклюзион - ECPv4.9.13//NONSGML v1.0//EN
CALSCALE:GREGORIAN
METHOD:PUBLISH
X-WR-CALNAME:Инклюзион
X-ORIGINAL-URL:https://inclusioncenter.ru
X-WR-CALDESC:Events for Инклюзион
BEGIN:VTIMEZONE
TZID:Europe/Moscow
BEGIN:STANDARD
TZOFFSETFROM:+0300
TZOFFSETTO:+0300
TZNAME:MSK
DTSTART:20240101T000000
END:STANDARD
END:VTIMEZONE
BEGIN:VEVENT
DTSTART;TZID=Europe/Moscow:20241122T190000
DTEND;TZID=Europe/Moscow:20241122T200000
DTSTAMP:20260419T143632
CREATED:20241022T205041Z
LAST-MODIFIED:20241022T205041Z
UID:12473-1732302000-1732305600@inclusioncenter.ru
SUMMARY:Москва. Спектакль «Голубое и зелёное»
DESCRIPTION:Спектакль «Голубое и зеленое» создан по рассказу Юрия Казакова\, блестящего русского новеллиста\, лауреата премии Данте\, сценариста\, мастера «негромкой прозы». \nЭто трогательная\, полная мягкого юмора романтическая история о первой любви молодого московского парня Алёши и девушки Лили. Первой любви\, которая навечно оставляет след в жизни каждого. И хотя иногда этот след оказывается глубоким шрамом\, — именно благодаря ей\, первой любви\, по-настоящему рождается человек. \nТихий двор\, горят окна — голубые и зеленые. Первая встреча\, кино\, удивительное очарование лета\, долгие прогулки по ночной Москве\, первый поцелуй и робкое сближение молодости. Лиля и Алеша впервые влюбляются: они готовы гулять и говорить друг с другом бесконечно\, не замечая\, как летит время. И прекрасный город\, полный красок\, звуков\, людей становится свидетелем новой любви. \nНаш спектакль об уникальном\, нежном и хрупком чуде рождения чувства — это разговор о рождении человека как такового. Первая любовь порой дается нам\, чтобы просто чему-то научить\, и потом уйти. Но навсегда остаться в сердце. \nВ спектакле заняты актеры труппы Московского Губернского театра и актеры центра «Инклюзион» и других инклюзивных проектов. Независимо от пола\, возраста\, особенностей здоровья и прочих различий между нами — все мы способны любить\, а значит\, способны одаривать этот мир своей любовью. А все кто любит — равны. \n\nБилеты: https://m-g-t.ru/performance/goluboe-i-zelenoe/ \n
URL:https://inclusioncenter.ru/event/moskva-spektakl-goluboe-i-zeljonoe-4/
LOCATION:Московский губернский театр\, Волгоградский пр. 121\, Москва\, Российская Федерация
CATEGORIES:Афиша
ATTACH;FMTTYPE=image/jpeg:https://inclusioncenter.ru/wp-content/uploads/2024/05/YNN_9449.jpg
END:VEVENT
END:VCALENDAR