BEGIN:VCALENDAR
VERSION:2.0
PRODID:-//Инклюзион - ECPv4.9.13//NONSGML v1.0//EN
CALSCALE:GREGORIAN
METHOD:PUBLISH
X-WR-CALNAME:Инклюзион
X-ORIGINAL-URL:https://inclusioncenter.ru
X-WR-CALDESC:Events for Инклюзион
BEGIN:VTIMEZONE
TZID:Europe/Moscow
BEGIN:STANDARD
TZOFFSETFROM:+0300
TZOFFSETTO:+0300
TZNAME:MSK
DTSTART:20180101T000000
END:STANDARD
END:VTIMEZONE
BEGIN:VEVENT
DTSTART;VALUE=DATE:20181207
DTEND;VALUE=DATE:20181208
DTSTAMP:20260420T222102
CREATED:20181203T084931Z
LAST-MODIFIED:20181203T084953Z
UID:4104-1544140800-1544227199@inclusioncenter.ru
SUMMARY:Репертуарный спектакль «Мергасовский»
DESCRIPTION:7 декабря пройдет репертуарный спектакль Творческой лаборатории «Угол» в рамках Х Всероссийского фестиваля молодой режиссуры «Ремесло» по историям жизни Мергасовского дома известного казанцам «как страшный зеленый дом у Черного озера». В спектакле «Мергасовский» принимают участие несколько участников «Инклюзион.Школа.Казань».  «Этот спектакль — скриншот\, попытка включить звук из окон Мергасовского дома\, многоголосье людей\, живших здесь в разное время. Кто-то жил и работал тут когда-то\, и рассказал об этом\, кого-то уже нет\, и его голос мы взяли из писем в библиотеках\, кто-то живет в доме прямо сейчас»\, — Радмила Хакова\, соавтор текста спектакля.  \n
URL:https://inclusioncenter.ru/event/repertuarnyj-spektakl-mergasovskij/
LOCATION:Творческая лаборатория Угол\, улица Парижской Коммуны\, 25/39\, Казань\, Российская Федерация
CATEGORIES:Афиша
END:VEVENT
END:VCALENDAR