BEGIN:VCALENDAR
VERSION:2.0
PRODID:-//Инклюзион - ECPv4.9.13//NONSGML v1.0//EN
CALSCALE:GREGORIAN
METHOD:PUBLISH
X-WR-CALNAME:Инклюзион
X-ORIGINAL-URL:https://inclusioncenter.ru
X-WR-CALDESC:Events for Инклюзион
BEGIN:VTIMEZONE
TZID:Europe/Moscow
BEGIN:STANDARD
TZOFFSETFROM:+0300
TZOFFSETTO:+0300
TZNAME:MSK
DTSTART:20240101T000000
END:STANDARD
END:VTIMEZONE
BEGIN:VEVENT
DTSTART;TZID=Europe/Moscow:20240330T200000
DTEND;TZID=Europe/Moscow:20240330T210000
DTSTAMP:20260419T164835
CREATED:20240307T104808Z
LAST-MODIFIED:20240307T104808Z
UID:11948-1711828800-1711832400@inclusioncenter.ru
SUMMARY:Санкт-Петербург. Спектакль "Это не я\, это моё тело"
DESCRIPTION:Спектакль в стиле Vogue-док.\nВстреча с темами принятия и непринятия своего «внутреннего» и «физического» Я\, физической боли и удовольствия\, темой любви к себе и её отсутствия. \nСпектакль состоит из 7 историй.\nЭто личные высказывания участниц о том\, что их волнует в этой теме. Что их волнует в себе. \nКаждый эпизод это отдельная история\, где героини исследуют свою телесность\, делятся друг с другом и со зрителем своим опытом познания и способа полюбить свое тело.\nСпектакль имеет интерактивный характер\, в конце зрителям предлагается ответить на несколько вопросов и по желанию рассказать свою историю. \nСпектакль создан в 2021 году в рамках инклюзивной лаборатории «Меняем культурную среду вместе: ТЕАТР» (организаторы: АНО «КонтАрт» и петербургская театральная школа «Инклюзион» совместно с Новой сценой Александринского театра). \n  \nБИЛЕТЫ: https://zarthouse.ru/body \n
URL:https://inclusioncenter.ru/event/sankt-peterburg-spektakl-jeto-ne-ja-jeto-mojo-telo-5/
LOCATION:Театральный дом Zart house\, Кожевенная линия\, 34 Исткабель (Севкабель Порт) 8й корпус\, 3й этаж\, Санкт-Петербург\, Российская Федерация
CATEGORIES:Афиша
ATTACH;FMTTYPE=image/jpeg:https://inclusioncenter.ru/wp-content/uploads/2023/07/Body04.jpg
END:VEVENT
END:VCALENDAR