BEGIN:VCALENDAR
VERSION:2.0
PRODID:-//Инклюзион - ECPv4.9.13//NONSGML v1.0//EN
CALSCALE:GREGORIAN
METHOD:PUBLISH
X-WR-CALNAME:Инклюзион
X-ORIGINAL-URL:https://inclusioncenter.ru
X-WR-CALDESC:Events for Инклюзион
BEGIN:VTIMEZONE
TZID:Europe/Moscow
BEGIN:STANDARD
TZOFFSETFROM:+0300
TZOFFSETTO:+0300
TZNAME:MSK
DTSTART:20240101T000000
END:STANDARD
END:VTIMEZONE
BEGIN:VEVENT
DTSTART;TZID=Europe/Moscow:20240121T130000
DTEND;TZID=Europe/Moscow:20240121T140000
DTSTAMP:20260419T183034
CREATED:20240119T123241Z
LAST-MODIFIED:20240119T123424Z
UID:11875-1705842000-1705845600@inclusioncenter.ru
SUMMARY:Санкт-Петербург. Спектакль-променад «Пять историй Мраморного дворца»
DESCRIPTION:В основе спектакля – исторические сюжеты и легенды Мраморного дворца. События из жизни реальных обитателей дворца переплетаются с мифологическими образами\, представленными в живописных плафонах\, украшениях\, скульптурах. \n  \nЗрители вместе с Екатериной II и архитектором Антонио Ринальди совершат прогулку по залам Мраморного дворца\, где встретятся с хранителями преданий этого места. История открывается через звуки и ассоциации\, соединение прошлого и настоящего\, рассказы обитателей дворца и зодчих. \n  \nСпектакль создавался в инклюзивной музейно-театральной лаборатории\, включавшей тренинги по актерскому мастерству\, движению\, музыке\, сторителлингу\, вокалу. Участники работали с историческим материалом\, создавая собственную инсценировку и выбирая жанр для каждой истории. \n  \n«Идея проекта родилась давно. Началось всё с вопроса: как показать дворец незрячим посетителям? Как рассказать об архитектуре и убранстве дворца\, как помочь ощутить\, прочувствовать эти образы? Как познакомить посетителя с таинственными историями\, порой романтическими\, а порой трагическими\, связанными и с интерьерами дворца\, и сменяющимися владельцами» (Лидия Шенберева\, автор идеи и куратор инклюзивных проектов Русского музея). \n  \n«Для нас важно было найти ту тонкую грань в работе с историческим контекстом\, которая позволит нам не притворяться историческими персонажами\, не изображать их\, а оставаться собой. И при этом\, соприкоснувшись с историями создателей и владельцев дворца\, поделиться ими со зрителями. Поэтому мы не наряжаемся в пышные костюмы эпохи\, не реконструируем танцы\, не пытаемся подражать нашим героям. Мы работаем с собственными ощущениями от дворца\, которые мы бережно собирали и исследовали в течение полугода. И в некоторых моментах предлагаем зрителям включиться во взаимодействие с дворцом — позвучать или сделать несколько импровизированных танцевальных движений\, прикоснуться к перилам лестницы или заглянуть в зеркало\, размышляя о современном искусстве». (Юлия Поцелуева\, куратор петербургской театральной школы «Инклюзион»\, АНО «КонтАрт») \n  \nСпектакль проходит с переводом на русский жестовый язык и с тифлокомментированием. \n  \nРегистрация по ссылке: https://otdel-soccult-com.timepad.ru/event/2729161/ \n
URL:https://inclusioncenter.ru/event/sankt-peterburg-spektakl-promenad-pjat-istorij-mramornogo-dvorca/
LOCATION:Мраморный дворец\, Миллионная ул.\, 5/1\, Санкт-Петербург\, Российская Федерация
CATEGORIES:Афиша
ATTACH;FMTTYPE=image/jpeg:https://inclusioncenter.ru/wp-content/uploads/2024/01/photo_2024-01-17_15-05-25.jpg
END:VEVENT
END:VCALENDAR