BEGIN:VCALENDAR
VERSION:2.0
PRODID:-//Инклюзион - ECPv4.9.13//NONSGML v1.0//EN
CALSCALE:GREGORIAN
METHOD:PUBLISH
X-WR-CALNAME:Инклюзион
X-ORIGINAL-URL:https://inclusioncenter.ru
X-WR-CALDESC:Events for Инклюзион
BEGIN:VTIMEZONE
TZID:Europe/Moscow
BEGIN:STANDARD
TZOFFSETFROM:+0300
TZOFFSETTO:+0300
TZNAME:MSK
DTSTART:20180101T000000
END:STANDARD
END:VTIMEZONE
BEGIN:VEVENT
DTSTART;TZID=Europe/Moscow:20181023T190000
DTEND;TZID=Europe/Moscow:20181023T190000
DTSTAMP:20260422T102454
CREATED:20180926T140240Z
LAST-MODIFIED:20181010T144428Z
UID:3582-1540321200-1540321200@inclusioncenter.ru
SUMMARY:Спектакль «Гроза – среда обитания»
DESCRIPTION:Состоится очередной показ инклюзивного спектакля «Гроза – среда обитания» (режиссер М. Фейгин) по мотивам пьесы А. Островского. Это отчетный спектакль московской инклюзивной театральной школы Центра творческих проектов «Инклюзион» В спектакле задействовано 11 инклюзивных студенты школы\, а также профессиональные артисты и музыканты. Занятия школы по большей части проходят в учебных аудиториях ЗИЛа\, поэтому премьера спектакля тоже состоялась в этом Культурном центре в мае 2018 года. Вход бесплатный\, необходима регистрация. \n
URL:https://inclusioncenter.ru/event/spektakl-groza-sreda-obitanija-3/
LOCATION:Культурный центр ЗИЛ\, ул. Восточная\, д. 4\, корп. 1\, Москва\, Российская Федерация
END:VEVENT
END:VCALENDAR