BEGIN:VCALENDAR
VERSION:2.0
PRODID:-//Инклюзион - ECPv4.9.13//NONSGML v1.0//EN
CALSCALE:GREGORIAN
METHOD:PUBLISH
X-WR-CALNAME:Инклюзион
X-ORIGINAL-URL:https://inclusioncenter.ru
X-WR-CALDESC:Events for Инклюзион
BEGIN:VTIMEZONE
TZID:Europe/Moscow
BEGIN:STANDARD
TZOFFSETFROM:+0300
TZOFFSETTO:+0300
TZNAME:MSK
DTSTART:20190101T000000
END:STANDARD
END:VTIMEZONE
BEGIN:VEVENT
DTSTART;TZID=Europe/Moscow:20190125T190000
DTEND;TZID=Europe/Moscow:20190125T190000
DTSTAMP:20260421T005228
CREATED:20181220T125210Z
LAST-MODIFIED:20181220T160709Z
UID:4510-1548442800-1548442800@inclusioncenter.ru
SUMMARY:Спектакль «Гроза – среда обитания»
DESCRIPTION:Показ театральной постановки «Гроза – среда обитания» по мотивам пьесы А. Островского. Режиссером спектакля стал педагог школы\, преподаватель РАТИ-ГИТИС Михаил Фейгин. В спектакле задействовано 11 инклюзивных студентов школы\, а также профессиональные артисты и музыканты. При работе с пьесой Островского «Гроза»\, режиссер и тифлосурдопереводчики адаптировали текст специально для глухих и слепоглухих студентов\, что позволило использовать жестовый язык в постановке и включило в рабочий процесс одну из основных категорий студентов «Инклюзион.Школа.Москва». \n
URL:https://inclusioncenter.ru/event/spektakl-groza-sreda-obitanija-6/
LOCATION:«Государственный Театр Наций»\, Петровский переулок\, д. 3\, Москва\, Российская Федерация
END:VEVENT
END:VCALENDAR