BEGIN:VCALENDAR
VERSION:2.0
PRODID:-//Инклюзион - ECPv4.9.13//NONSGML v1.0//EN
CALSCALE:GREGORIAN
METHOD:PUBLISH
X-WR-CALNAME:Инклюзион
X-ORIGINAL-URL:https://inclusioncenter.ru
X-WR-CALDESC:Events for Инклюзион
BEGIN:VTIMEZONE
TZID:Europe/Moscow
BEGIN:STANDARD
TZOFFSETFROM:+0300
TZOFFSETTO:+0300
TZNAME:MSK
DTSTART:20180101T000000
END:STANDARD
END:VTIMEZONE
BEGIN:VEVENT
DTSTART;TZID=Europe/Moscow:20181205T190000
DTEND;TZID=Europe/Moscow:20181205T190000
DTSTAMP:20260420T185541
CREATED:20181123T090553Z
LAST-MODIFIED:20181123T090913Z
UID:3969-1544036400-1544036400@inclusioncenter.ru
SUMMARY:Спектакль «In Touch /Прикасаемые»
DESCRIPTION:В рамках масштабного международного социокультурного проекта «Россия-Бельгия-Нидерланды: Театр без границ» состоится три показа спектакля «In Touch/Прикасаемые» и пройдет круглый стол по обмену опытом\, накопленным российскими и голландскими специалистами по направлению творческого развития слепоглухих. Проект поддержан Посольством РФ в Королевстве Нидерланды\, Посольством РФ в Бельгии\, Федеральным агентством по делам Содружества Независимых Государств\, соотечественников\, проживающих за рубежом\, и по международному гуманитарному сотрудничеству\, Центром международного сотрудничества Dutch Culture Министерства культуры Нидерландов\, Фондом президентских грантов\,  Фондом «Искусство\, наука и спорт»\, ООО «Филип Моррис Сейлз энд Маркетинг»\, некоммерческими организациями Голландии и Бельгии.  \nПроект направлен на создание доступной культурной среды и возможностей для всех людей\, независимо от их особенностей\, местожительства\, национальности и привлечение внимания к теме слепоглухоты.  \nПриглашенные актеры: Дагмар Слагмолен (Нидерланды)\, Егор Бероев\, Елизавета Арзамасова (Россия) \n
URL:https://inclusioncenter.ru/event/spektakl-in-touch-prikasaemye-4/
LOCATION:Театр при Русском Центре Науки и Культуры (РЦНК) в Брюсселе\, Rue du Méridien\, 21\, Брюссель\, Бельгия
CATEGORIES:Афиша
END:VEVENT
END:VCALENDAR