BEGIN:VCALENDAR
VERSION:2.0
PRODID:-//Инклюзион - ECPv4.9.13//NONSGML v1.0//EN
CALSCALE:GREGORIAN
METHOD:PUBLISH
X-WR-CALNAME:Инклюзион
X-ORIGINAL-URL:https://inclusioncenter.ru
X-WR-CALDESC:Events for Инклюзион
BEGIN:VTIMEZONE
TZID:Europe/Moscow
BEGIN:STANDARD
TZOFFSETFROM:+0300
TZOFFSETTO:+0300
TZNAME:MSK
DTSTART:20180101T000000
END:STANDARD
END:VTIMEZONE
BEGIN:VEVENT
DTSTART;TZID=Europe/Moscow:20181208T203000
DTEND;TZID=Europe/Moscow:20181208T203000
DTSTAMP:20260420T203708
CREATED:20181123T090853Z
LAST-MODIFIED:20181123T090853Z
UID:3972-1544301000-1544301000@inclusioncenter.ru
SUMMARY:Спектакль «In Touch /Прикасаемые»
DESCRIPTION:В рамках масштабного международного социокультурного проекта «Россия-Бельгия-Нидерланды: Театр без границ» состоится три показа спектакля «In Touch/Прикасаемые» и пройдет круглый стол по обмену опытом\, накопленным российскими и голландскими специалистами по направлению творческого развития слепоглухих. Проект поддержан Посольством РФ в Королевстве Нидерланды\, Посольством РФ в Бельгии\, Федеральным агентством по делам Содружества Независимых Государств\, соотечественников\, проживающих за рубежом\, и по международному гуманитарному сотрудничеству\, Центром международного сотрудничества Dutch Culture Министерства культуры Нидерландов\, Фондом президентских грантов\,  Фондом «Искусство\, наука и спорт»\, ООО «Филип Моррис Сейлз энд Маркетинг»\, некоммерческими организациями Голландии и Бельгии.  \nПроект направлен на создание доступной культурной среды и возможностей для всех людей\, независимо от их особенностей\, местожительства\, национальности и привлечение внимания к теме слепоглухоты.  \nПриглашенные актеры: Дагмар Слагмолен (Нидерланды)\, Егор Бероев\, Мариетта Цыгаль-Полищук (Россия) \n
URL:https://inclusioncenter.ru/event/spektakl-in-touch-prikasaemye-5/
LOCATION:Compagnieltheater\, Kloveniersburgwal 50\, 1012 CX\, Амстердам\, Нидерланды
CATEGORIES:Афиша
END:VEVENT
END:VCALENDAR